BEGIN:VCALENDAR
VERSION:2.0
PRODID:-//IP.Board Calendar 4.6.12.1//EN
METHOD:PUBLISH
CALSCALE:GREGORIAN
X-WR-CALNAME:Dumont Community Calendar
BEGIN:VTIMEZONE
TZID:Europe/London
TZURL:http://tzurl.org/zoneinfo/Europe/London
X-LIC-LOCATION:Europe/London
BEGIN:DAYLIGHT
TZOFFSETFROM:+0000
TZOFFSETTO:+0100
TZNAME:BST
DTSTART:20130331T020000Z
RRULE:FREQ=YEARLY;BYMONTH=3;BYDAY=-1SU
END:DAYLIGHT
BEGIN:STANDARD
TZOFFSETFROM:+0100
TZOFFSETTO:+0000
TZNAME:GMT
DTSTART:20131027T020000Z
RRULE:FREQ=YEARLY;BYMONTH=10;BYDAY=-1SU
END:STANDARD
END:VTIMEZONE
BEGIN:VEVENT
SUMMARY:President's Day weekend
DTSTAMP:20130109T062515Z
SEQUENCE:1
UID:145-1-7ad3c682ca512903e298b19d63c091ec@www.dumontduneriders.com
ORGANIZER;CN="Dumont Dune Riders":donotreply@dumontdunerider
	s.com
DESCRIPTION:\n\nPresident's Day weekend 2013\nIt's one of the most popul
	ar weekends of the season at Dumont. It's been 40+ years since the Las Veg
	as Jeep Club started their annual Jeep Drags. This year will actually be 4
	1 years!  Can you believe it?\nCome on out and join the rest of the Dumont
	 community that lines the dunes for 3 days to watch these guys battle it o
	ut every year. No matter how much the performance technology advances with
	 sandrails or Jeeps\, there is always a special feeling of nostalgia that 
	the Jeep Drags bring to Dumont. Whether it be that certain grudge match fr
	om last year or the newest build that veterans \"fear\"\, there is always 
	a strong competition and value of entertainment.\n
DTSTART;VALUE=DATE:20130215
DTEND;VALUE=DATE:20130218
END:VEVENT
END:VCALENDAR
