BEGIN:VCALENDAR
VERSION:2.0
PRODID:-//IP.Board Calendar 4.6.12.1//EN
METHOD:PUBLISH
CALSCALE:GREGORIAN
X-WR-CALNAME:Dumont Community Calendar
BEGIN:VTIMEZONE
TZID:Europe/London
TZURL:http://tzurl.org/zoneinfo/Europe/London
X-LIC-LOCATION:Europe/London
BEGIN:DAYLIGHT
TZOFFSETFROM:+0000
TZOFFSETTO:+0100
TZNAME:BST
DTSTART:20130331T020000Z
RRULE:FREQ=YEARLY;BYMONTH=3;BYDAY=-1SU
END:DAYLIGHT
BEGIN:STANDARD
TZOFFSETFROM:+0100
TZOFFSETTO:+0000
TZNAME:GMT
DTSTART:20131027T020000Z
RRULE:FREQ=YEARLY;BYMONTH=10;BYDAY=-1SU
END:STANDARD
END:VTIMEZONE
BEGIN:VEVENT
SUMMARY:4 Stroke Association's\, \"Rumble in the Desert\"
DTSTAMP:20130220T232050Z
SEQUENCE:0
UID:147-1-7ad3c682ca512903e298b19d63c091ec@www.dumontduneriders.com
ORGANIZER;CN="Dumont Dune Riders":donotreply@dumontdunerider
	s.com
DESCRIPTION:\nFour Stroke Association's\, \"Rumble in the Desert\"\nSatu
	rday\, March 16 at Banshee Hill\n
DTSTART;VALUE=DATE:20130316
END:VEVENT
END:VCALENDAR
