BEGIN:VCALENDAR
VERSION:2.0
PRODID:-//IP.Board Calendar 4.6.12.1//EN
METHOD:PUBLISH
CALSCALE:GREGORIAN
X-WR-CALNAME:Dumont Community Calendar
BEGIN:VTIMEZONE
TZID:Europe/London
TZURL:http://tzurl.org/zoneinfo/Europe/London
X-LIC-LOCATION:Europe/London
BEGIN:DAYLIGHT
TZOFFSETFROM:+0000
TZOFFSETTO:+0100
TZNAME:BST
DTSTART:20160327T020000Z
RRULE:FREQ=YEARLY;BYMONTH=3;BYDAY=-1SU
END:DAYLIGHT
BEGIN:STANDARD
TZOFFSETFROM:+0100
TZOFFSETTO:+0000
TZNAME:GMT
DTSTART:20161030T020000Z
RRULE:FREQ=YEARLY;BYMONTH=10;BYDAY=-1SU
END:STANDARD
END:VTIMEZONE
BEGIN:VEVENT
SUMMARY:4th Annual Buggy Roundup
DTSTAMP:20160911T031102Z
SEQUENCE:1
UID:187-1-7ad3c682ca512903e298b19d63c091ec@www.dumontduneriders.com
ORGANIZER;CN="dunefreak":donotreply@dumontduneriders.com
DESCRIPTION:\n\n	\n\n\n	The 4th Annual Buggy Roundup Dune Trip will be D
	ec 9-11\, 2016.\n\n\n\n	 \n\n\n\n	This is an annual Dumont trip for all t
	he guys and girls who have buggies. We camp together as a group across fro
	m bathroom 10 on the hard pack. This way nobody gets lost or stuck. The Bu
	ggy Roundup gives everyone a chance to meet up\, hang out\, and run the du
	nes together without the madness of a holiday weekend. New to the Roundup?
	 No problem. Just post up on the forum topic that you are coming and you'r
	e in. The circle is big and there's always room for more. We'll make a sec
	ond ring if we have to. Many of us know each other\, but many don't. One t
	hing's for sure...at the end of the weekend\, total strangers end up leavi
	ng as friends. \n\n\n\n	\n\n\n	 \n\n\n\n	Schedule of Events\n\n\n\n	Ther
	e isn't one! This is Dumont. We don't look at our watches or have schedule
	s. Sometimes we sleep in\, sometimes we get up early to shred the dunes. I
	t all depends on how much fun we had the night before. We usually hit the 
	dunes runs whenever someone in camp yells\, let's roll! \n\n\n\n	\n\n\n	
	 \n\n\n\n	Buggy Weigh In: If Ben is able to bring his scales this year li
	ke he has in the past\, you'll get a chance to weigh your car. Get a full 
	digit readout of the weight at all four corners. Place bets and talk crap 
	about how each others car needs to go on a diet! \n\n\n	\n\n\n	 \n\n\n\n
		Tacos and UFC: This year we'll be hosting tacos and UFC! We'll be grillin
	g up carne asada for everyone and projecting UFC 206 on the side of a trai
	ler. Grab a taco and a beer and find yourself a spot around the fire.\n\n\
	n\n	\n\n\n\n	 \n\n\n\n	RSVP\n\n\n\n	Just post up on the forum topic and t
	ell us you are in. Feel free to upload a pic of your rig and buggy as well
	. \n\n\n\n\n	Side x Sides and Bikes\n\n\n\n	We don't discriminate\, howev
	er this is the BUGGY roundup. Everyone is welcome to come camp with the gr
	oup\, but we ask that all bikes and side x sides hop behind the buggies o
	n dune runs. It's for your own safety. Big cars don't mix well with bikes 
	and side x sides. \n\n\n\n	 \n\n\n\n	\n\n\n	 \n\n\n\n	Last years trip r
	eport\n\n\n\n	http://www.dumontduneriders.com/invision/index.php?showtopic
	=20475\n\n\n\n	 \n\n\n\n	\n
DTSTART;VALUE=DATE:20161209
DTEND;VALUE=DATE:20161212
ATTENDEE;CN="dunefreak";CUTYPE=INDIVIDUAL;PARTSTAT=ACCEPTED:
	donotreply@dumontduneriders.com
ATTENDEE;CN="jetjock15";CUTYPE=INDIVIDUAL;PARTSTAT=ACCEPTED:
	donotreply@dumontduneriders.com
ATTENDEE;CN="HawaiianstyleLV";CUTYPE=INDIVIDUAL;PARTSTAT=ACC
	EPTED:donotreply@dumontduneriders.com
ATTENDEE;CN="Ron0263";CUTYPE=INDIVIDUAL;PARTSTAT=ACCEPTED:do
	notreply@dumontduneriders.com
ATTENDEE;CN="Sand buddy";CUTYPE=INDIVIDUAL;PARTSTAT=ACCEPTED
	:donotreply@dumontduneriders.com
ATTENDEE;CN="JoeDuner";CUTYPE=INDIVIDUAL;PARTSTAT=ACCEPTED:d
	onotreply@dumontduneriders.com
ATTENDEE;CN="sand chick";CUTYPE=INDIVIDUAL;PARTSTAT=ACCEPTED
	:donotreply@dumontduneriders.com
ATTENDEE;CN="BAM racing";CUTYPE=INDIVIDUAL;PARTSTAT=ACCEPTED
	:donotreply@dumontduneriders.com
ATTENDEE;CN="Strictly Stoopid";CUTYPE=INDIVIDUAL;PARTSTAT=AC
	CEPTED:donotreply@dumontduneriders.com
ATTENDEE;CN="DuneFamilyof5";CUTYPE=INDIVIDUAL;PARTSTAT=ACCEP
	TED:donotreply@dumontduneriders.com
ATTENDEE;CN="GETSOME";CUTYPE=INDIVIDUAL;PARTSTAT=ACCEPTED:do
	notreply@dumontduneriders.com
ATTENDEE;CN="printerpat";CUTYPE=INDIVIDUAL;PARTSTAT=ACCEPTED
	:donotreply@dumontduneriders.com
ATTENDEE;CN="stinger";CUTYPE=INDIVIDUAL;PARTSTAT=ACCEPTED:do
	notreply@dumontduneriders.com
END:VEVENT
END:VCALENDAR
