BEGIN:VCALENDAR
VERSION:2.0
PRODID:-//IP.Board Calendar 4.6.12.1//EN
METHOD:PUBLISH
CALSCALE:GREGORIAN
X-WR-CALNAME:Dumont Community Calendar
BEGIN:VTIMEZONE
TZID:Europe/London
TZURL:http://tzurl.org/zoneinfo/Europe/London
X-LIC-LOCATION:Europe/London
BEGIN:DAYLIGHT
TZOFFSETFROM:+0000
TZOFFSETTO:+0100
TZNAME:BST
DTSTART:20170326T020000Z
RRULE:FREQ=YEARLY;BYMONTH=3;BYDAY=-1SU
END:DAYLIGHT
BEGIN:STANDARD
TZOFFSETFROM:+0100
TZOFFSETTO:+0000
TZNAME:GMT
DTSTART:20171029T020000Z
RRULE:FREQ=YEARLY;BYMONTH=10;BYDAY=-1SU
END:STANDARD
END:VTIMEZONE
BEGIN:VEVENT
SUMMARY:16th Annual Four Stroke Wars
DTSTAMP:20161123T153150Z
SEQUENCE:0
UID:191-1-7ad3c682ca512903e298b19d63c091ec@www.dumontduneriders.com
ORGANIZER;CN="Dumont Dune Riders":donotreply@dumontdunerider
	s.com
DESCRIPTION:\n\n	Four Stroke Association presents the 16th anniversary o
	f Four stroke wars.  See some of the world's fastest Banshee's and four s
	trokes battle it out.\n\n\n\n	Location: Banshee Hill\, Dumont Dunes\n\n\n
	\n	 \n\n\n\n	More info\, https://www.facebook.com/Four-Stroke-Wars-57632
	1392551326/?fref=ts\n\n\n\n	 \n\n\n\n	\n\n\n	 \n\n\n\n	photo and banner 
	courtesy of Four Stroke Association\n\n\n\n	 \n\n
DTSTART;VALUE=DATE:20170114
END:VEVENT
END:VCALENDAR
