BEGIN:VCALENDAR
VERSION:2.0
PRODID:-//IP.Board Calendar 4.6.12.1//EN
METHOD:PUBLISH
CALSCALE:GREGORIAN
X-WR-CALNAME:Dumont Community Calendar
BEGIN:VTIMEZONE
TZID:Europe/London
TZURL:http://tzurl.org/zoneinfo/Europe/London
X-LIC-LOCATION:Europe/London
BEGIN:DAYLIGHT
TZOFFSETFROM:+0000
TZOFFSETTO:+0100
TZNAME:BST
DTSTART:20170326T020000Z
RRULE:FREQ=YEARLY;BYMONTH=3;BYDAY=-1SU
END:DAYLIGHT
BEGIN:STANDARD
TZOFFSETFROM:+0100
TZOFFSETTO:+0000
TZNAME:GMT
DTSTART:20171029T020000Z
RRULE:FREQ=YEARLY;BYMONTH=10;BYDAY=-1SU
END:STANDARD
END:VTIMEZONE
BEGIN:VEVENT
SUMMARY:President's Weekend 2017
DTSTAMP:20161201T031226Z
SEQUENCE:0
UID:194-1-7ad3c682ca512903e298b19d63c091ec@www.dumontduneriders.com
ORGANIZER;CN="Dumont Dune Riders":donotreply@dumontdunerider
	s.com
DESCRIPTION:\n\n	President's Weekend 2017\, Dumont Dunes\n\n\n\n	Feb 18-
	20th\, 2017\n\n\n\n	 \n\n\n\n	Holiday Passes are required Feb 14 thru Fe
	b 20\, 2017\n\n\n\n	 \n\n\n\n	\n
DTSTART:20170217T080000Z
DTEND:20170220T080000Z
END:VEVENT
END:VCALENDAR
