BEGIN:VCALENDAR
VERSION:2.0
PRODID:-//IP.Board Calendar 4.6.12.1//EN
METHOD:PUBLISH
CALSCALE:GREGORIAN
X-WR-CALNAME:Dumont Community Calendar
BEGIN:VTIMEZONE
TZID:Europe/London
TZURL:http://tzurl.org/zoneinfo/Europe/London
X-LIC-LOCATION:Europe/London
BEGIN:DAYLIGHT
TZOFFSETFROM:+0000
TZOFFSETTO:+0100
TZNAME:BST
DTSTART:20180325T020000Z
RRULE:FREQ=YEARLY;BYMONTH=3;BYDAY=-1SU
END:DAYLIGHT
BEGIN:STANDARD
TZOFFSETFROM:+0100
TZOFFSETTO:+0000
TZNAME:GMT
DTSTART:20181028T020000Z
RRULE:FREQ=YEARLY;BYMONTH=10;BYDAY=-1SU
END:STANDARD
END:VTIMEZONE
BEGIN:VEVENT
SUMMARY:Four Stroke Wars & Banshee Wars
DTSTAMP:20171215T163400Z
SEQUENCE:0
UID:206-1-7ad3c682ca512903e298b19d63c091ec@www.dumontduneriders.com
ORGANIZER;CN="Dumont Dune Riders":donotreply@dumontdunerider
	s.com
DESCRIPTION:\n\n	4 Stroke Wars and Banshee Wars return to Dumont at Bans
	hee Hill Saturday\, January 13th over MLK weekend.\n\n\n\n	For more race i
	nfo\, follow or join the FOUR STROKE ASSOCIATION group on facebook. \n\n\
	n\n	 \n\n\n\n	\n\n\n\n	 \n\n\n\n	\n
DTSTART:20180113T180000Z
DTEND:20180113T080000Z
END:VEVENT
END:VCALENDAR
