BEGIN:VCALENDAR
VERSION:2.0
PRODID:-//IP.Board Calendar 4.6.12.1//EN
METHOD:PUBLISH
CALSCALE:GREGORIAN
X-WR-CALNAME:Dumont Community Calendar
BEGIN:VTIMEZONE
TZID:Europe/London
TZURL:http://tzurl.org/zoneinfo/Europe/London
X-LIC-LOCATION:Europe/London
BEGIN:DAYLIGHT
TZOFFSETFROM:+0000
TZOFFSETTO:+0100
TZNAME:BST
DTSTART:20190331T020000Z
RRULE:FREQ=YEARLY;BYMONTH=3;BYDAY=-1SU
END:DAYLIGHT
BEGIN:STANDARD
TZOFFSETFROM:+0100
TZOFFSETTO:+0000
TZNAME:GMT
DTSTART:20191027T020000Z
RRULE:FREQ=YEARLY;BYMONTH=10;BYDAY=-1SU
END:STANDARD
END:VTIMEZONE
BEGIN:VEVENT
SUMMARY:CANCELED: Four Stroke Wars & Banshee Wars presented by FSA
DTSTAMP:20181130T164428Z
SEQUENCE:0
UID:216-1-7ad3c682ca512903e298b19d63c091ec@www.dumontduneriders.com
ORGANIZER;CN="Dumont Dune Riders":donotreply@dumontdunerider
	s.com
DESCRIPTION:\n\n	Update: Due to the government shutdown\, the 4 Stroke W
	ars &amp\; Banshee Wars have been cancelled. There isn't enough BLM staff 
	to oversee the event.\n\n\n\n	 \n\n\n\n	Test n Tune: Friday Jan 18th\n\n
	\n\n	4 Stroke Wars: Saturday\, Jan 19th\, 10 AM at Banshee HIll\n\n\n\n	 
	\n\n\n\n	\n\n
DTSTART:20190119T180000Z
END:VEVENT
END:VCALENDAR
