BEGIN:VCALENDAR
VERSION:2.0
PRODID:-//IP.Board Calendar 4.6.12.1//EN
METHOD:PUBLISH
CALSCALE:GREGORIAN
X-WR-CALNAME:Dumont Community Calendar
BEGIN:VTIMEZONE
TZID:Europe/London
TZURL:http://tzurl.org/zoneinfo/Europe/London
X-LIC-LOCATION:Europe/London
BEGIN:DAYLIGHT
TZOFFSETFROM:+0000
TZOFFSETTO:+0100
TZNAME:BST
DTSTART:20190331T020000Z
RRULE:FREQ=YEARLY;BYMONTH=3;BYDAY=-1SU
END:DAYLIGHT
BEGIN:STANDARD
TZOFFSETFROM:+0100
TZOFFSETTO:+0000
TZNAME:GMT
DTSTART:20191027T020000Z
RRULE:FREQ=YEARLY;BYMONTH=10;BYDAY=-1SU
END:STANDARD
END:VTIMEZONE
BEGIN:VEVENT
SUMMARY:Cleanup Weekend: 17th Annual Dumont Cleanup presented by Fri
	ends of Dumont Dunes
DTSTAMP:20181218T203523Z
SEQUENCE:0
UID:217-1-7ad3c682ca512903e298b19d63c091ec@www.dumontduneriders.com
ORGANIZER;CN="dunefreak":donotreply@dumontduneriders.com
DESCRIPTION:\n\n	Info from Friends of Dumont Dunes...\n\n\n\n	 \n\n\n\n
		If you've attended over the past few years\, you already know about the g
	reat time we have. If you want to join in the fun now is the time! It is a
	 fun filled day among friends\, family\, trash bags\, BBQ and of course th
	e quickdraw! I look forward to seeing you in the dunes!\n\n\n\n	 \n\n\n\n
		If you are planning on attending\, please help us out and RSVP to our eve
	nt posting to better help us with a headcount.\n\n\n\n	 \n\n\n\n	***DONAT
	IONS NEEDED***\n\n\n\n	If you are a business owner needing a tax deduction
	\, a long time duner that wants to continue supporting our mission OR just
	 want to help contribute to the great time while we give back to our belov
	ed Dumont Dunes please help us with any donations of the following:\n\n\n\
	n	-Money can be sent via Paypal (jason@impactsignsonline.com) or Check (Pa
	yable to The Friends of Dumont Dunes). This helps adsorb the cost of the f
	ood we prepare for those who help participate in the clean-up.\n\n\n\n	-An
	y new items related to off road activities and camping. Examples from the 
	past are chairs\, ice chests\, shirts\, buggy and SXS parts\, games\, flag
	 poles etc. Mailing address for any items donated is Impact Signs C/O: Jas
	on Ardenski (FoDD President) 15370 Cholame Rd. Suite #3 Victorville CA 923
	92\n\n\n\n	Remember this is a family oriented event and will take place ra
	in or shine!\n\n\n\n	 \n\n\n\n	\n\n\n\n	 \n\n
DTSTART:20190316T150000Z
ATTENDEE;CN="transporter";CUTYPE=INDIVIDUAL;PARTSTAT=ACCEPTE
	D:donotreply@dumontduneriders.com
ATTENDEE;CN="Richard Allen";CUTYPE=INDIVIDUAL;PARTSTAT=ACCEP
	TED:donotreply@dumontduneriders.com
ATTENDEE;CN="dunefreak";CUTYPE=INDIVIDUAL;PARTSTAT=ACCEPTED:
	donotreply@dumontduneriders.com
END:VEVENT
END:VCALENDAR
