BEGIN:VCALENDAR
VERSION:2.0
PRODID:-//IP.Board Calendar 4.6.12.1//EN
METHOD:PUBLISH
CALSCALE:GREGORIAN
X-WR-CALNAME:Dumont Community Calendar
BEGIN:VTIMEZONE
TZID:Europe/London
TZURL:http://tzurl.org/zoneinfo/Europe/London
X-LIC-LOCATION:Europe/London
BEGIN:DAYLIGHT
TZOFFSETFROM:+0000
TZOFFSETTO:+0100
TZNAME:BST
DTSTART:20190331T020000Z
RRULE:FREQ=YEARLY;BYMONTH=3;BYDAY=-1SU
END:DAYLIGHT
BEGIN:STANDARD
TZOFFSETFROM:+0100
TZOFFSETTO:+0000
TZNAME:GMT
DTSTART:20191027T020000Z
RRULE:FREQ=YEARLY;BYMONTH=10;BYDAY=-1SU
END:STANDARD
END:VTIMEZONE
BEGIN:VEVENT
SUMMARY:Halloween weekend 2019
DTSTAMP:20190513T143542Z
SEQUENCE:0
UID:218-1-7ad3c682ca512903e298b19d63c091ec@www.dumontduneriders.com
ORGANIZER;CN="dunefreak":donotreply@dumontduneriders.com
DESCRIPTION:\n\n	Halloween weekend is Oct 26-27 weekend. \n\n
DTSTART;VALUE=DATE:20191026
DTEND;VALUE=DATE:20191028
ATTENDEE;CN="Ruenvus";CUTYPE=INDIVIDUAL;PARTSTAT=ACCEPTED:do
	notreply@dumontduneriders.com
ATTENDEE;CN="DogHouseRiley";CUTYPE=INDIVIDUAL;PARTSTAT=ACCEP
	TED:donotreply@dumontduneriders.com
ATTENDEE;CN="Johno";CUTYPE=INDIVIDUAL;PARTSTAT=ACCEPTED:dono
	treply@dumontduneriders.com
ATTENDEE;CN="CaliforniaCheeseHead";CUTYPE=INDIVIDUAL;PARTSTA
	T=ACCEPTED:donotreply@dumontduneriders.com
ATTENDEE;CN="Brookreson";CUTYPE=INDIVIDUAL;PARTSTAT=ACCEPTED
	:donotreply@dumontduneriders.com
ATTENDEE;CN="akahlh";CUTYPE=INDIVIDUAL;PARTSTAT=ACCEPTED:don
	otreply@dumontduneriders.com
ATTENDEE;CN="Reeves";CUTYPE=INDIVIDUAL;PARTSTAT=ACCEPTED:don
	otreply@dumontduneriders.com
ATTENDEE;CN="rick10";CUTYPE=INDIVIDUAL;PARTSTAT=ACCEPTED:don
	otreply@dumontduneriders.com
ATTENDEE;CN="Doris";CUTYPE=INDIVIDUAL;PARTSTAT=ACCEPTED:dono
	treply@dumontduneriders.com
ATTENDEE;CN="RZR ROB";CUTYPE=INDIVIDUAL;PARTSTAT=ACCEPTED:do
	notreply@dumontduneriders.com
ATTENDEE;CN="Stargurl21700";CUTYPE=INDIVIDUAL;PARTSTAT=ACCEP
	TED:donotreply@dumontduneriders.com
ATTENDEE;CN="Hollie Storm";CUTYPE=INDIVIDUAL;PARTSTAT=ACCEPT
	ED:donotreply@dumontduneriders.com
ATTENDEE;CN="Grills Gone Wild";CUTYPE=INDIVIDUAL;PARTSTAT=AC
	CEPTED:donotreply@dumontduneriders.com
END:VEVENT
END:VCALENDAR
