BEGIN:VCALENDAR
VERSION:2.0
PRODID:-//IP.Board Calendar 4.6.12.1//EN
METHOD:PUBLISH
CALSCALE:GREGORIAN
X-WR-CALNAME:Dumont Community Calendar
BEGIN:VTIMEZONE
TZID:Europe/London
TZURL:http://tzurl.org/zoneinfo/Europe/London
X-LIC-LOCATION:Europe/London
BEGIN:DAYLIGHT
TZOFFSETFROM:+0000
TZOFFSETTO:+0100
TZNAME:BST
DTSTART:20210328T020000Z
RRULE:FREQ=YEARLY;BYMONTH=3;BYDAY=-1SU
END:DAYLIGHT
BEGIN:STANDARD
TZOFFSETFROM:+0100
TZOFFSETTO:+0000
TZNAME:GMT
DTSTART:20211031T020000Z
RRULE:FREQ=YEARLY;BYMONTH=10;BYDAY=-1SU
END:STANDARD
END:VTIMEZONE
BEGIN:VEVENT
SUMMARY:Dumont Cleanup 2021
DTSTAMP:20210216T201808Z
SEQUENCE:0
UID:235-1-7ad3c682ca512903e298b19d63c091ec@www.dumontduneriders.com
ORGANIZER;CN="dunefreak":donotreply@dumontduneriders.com
DESCRIPTION:\n\n	March 13\, 2021 will be the day for a COVID-19 complian
	t clean-up at Dumont Dunes.  BLM will supply dumpster\, water\, and tool
	 trailer. \n\n\n\n	 \n\n\n\n	BLM will be on-site to sign-up volunteers.
	  Pens will be disinfected between users\, hand sanitizer will be availab
	le\,  and social distancing will be required.  If not feeling well\, st
	ay home or seek medical attention as appropriate.   \n\n
DTSTART:20210313T160000Z
ATTENDEE;CN="BearsZX72";CUTYPE=INDIVIDUAL;PARTSTAT=ACCEPTED:
	donotreply@dumontduneriders.com
END:VEVENT
END:VCALENDAR
