BEGIN:VCALENDAR
VERSION:2.0
PRODID:-//IP.Board Calendar 4.6.12.1//EN
METHOD:PUBLISH
CALSCALE:GREGORIAN
X-WR-CALNAME:Dumont Community Calendar
BEGIN:VTIMEZONE
TZID:Europe/London
TZURL:http://tzurl.org/zoneinfo/Europe/London
X-LIC-LOCATION:Europe/London
BEGIN:DAYLIGHT
TZOFFSETFROM:+0000
TZOFFSETTO:+0100
TZNAME:BST
DTSTART:20210328T020000Z
RRULE:FREQ=YEARLY;BYMONTH=3;BYDAY=-1SU
END:DAYLIGHT
BEGIN:STANDARD
TZOFFSETFROM:+0100
TZOFFSETTO:+0000
TZNAME:GMT
DTSTART:20211031T020000Z
RRULE:FREQ=YEARLY;BYMONTH=10;BYDAY=-1SU
END:STANDARD
END:VTIMEZONE
BEGIN:VEVENT
SUMMARY:Buggy Roundup 9
DTSTAMP:20210924T033948Z
SEQUENCE:0
UID:238-1-7ad3c682ca512903e298b19d63c091ec@www.dumontduneriders.com
ORGANIZER;CN="dunefreak":donotreply@dumontduneriders.com
DESCRIPTION:\n	Calling all sandcars! Come join us at Dumont Dunes for ou
	r 9th Annual Buggy Roundup. The Buggy Roundup is an annual Dumont trip whe
	n all the sandcar people are invited to come out and camp together as a g
	roup. We'll be camped together across from bathroom 10\, just off the righ
	t side of the entrance road. This trip gives the buggy guys and girls of 
	Dumont a chance to meet each other and run the dunes together for a full w
	eekend without the crowds. So don't be a stranger. Every year we have new 
	people join the camp and end up leaving as friends. \n\n\n\n	 \n\n\n\n	\
	n\n\n\n	 \n\n\n\n	There is no set schedule of events\, but it will likely
	 go something like this...\n\n\n\n	 \n\n\n\n	Arrive as early as you'd lik
	e. Some get there as early as Tues or Wed. Just don't go hard and break yo
	ur car before the weekend. \n\n\n\n	 \n\n\n\n	Saturday\n\n\n\n	8:00 AM -
	~10 AM: Sandcars and Coffee: Pull your car into the center of camp. (Or 
	park it there the night before) Feel free to bring out some donuts or bre
	akfast treats to contribute if you'd like. Grab some coffee\, say good mor
	ning to everyone\, and check out all the buggies. This gives everyone a ch
	ance to wake up and get the day started. \n\n\n\n	 \n\n\n\n	10 AM North 
	Pole Dune Run: Join the group as we'll form the biggest train of buggies y
	ou've ever seen. We'll do a full dune run (slow to medium paced cruise) th
	rough the dunes to the north pole. \n\n\n\n	 \n\n\n\n	Saturday Afternoo
	n: The rest of the day will more group rides\, dune trivia\, a raffle and
	 more group dune runs! \n\n\n\n	 \n\n\n\n	Buggy Roundup/ Camp Rules\n\n\
	n\n	Those that wish to camp with the group for Buggy Roundup must agree to
	 the rules set by us\, Dumont Dune Riders.\n\n\n\n	1) Don't be a d*ck! We'
	ve never had an issue with anyone at buggy roundup\, but we will not toler
	ate any BS. We are there to have a fun weekend of duning. \n\n\n\n	2) Be 
	respectful of others in camp: this means no loud music.\n\n\n\n	3) No pass
	ing on group rides unless you can do it extremely safely while giving that
	 person plenty of room (ie: cut an entire dune to do it. Don't catch them 
	by surprise.)\n\n\n\n	4) It's asked every year so I feel I need to say it.
	 If you have a side x side\, you are not uninvited. Please just understand
	 this one time a year event is for buggies. So please don't get in the mid
	dle of the line of buggies for dune runs or photo shoots. \n\n\n\n	 \n\n
	\n\n	 \n\n\n\n	Want in? Here's what you need to do.\n\n\n\n	 \n\n\n\n	1)
	 On this page\, click GOING...\n\n\n\n	 \n\n\n\n	2) Bring your buggy to
	 Dumont and join in on the fun. Don't be a stranger. Park with the group. 
	If you don't know anyone\, just ask for PETE. \n\n\n\n	 \n\n\n\n	Camp Lo
	cation\n\n\n\n	\n\n\n\n	 \n\n\n\n	Forum Topic\n\n\n\n\n	 \n\n
DTSTART;VALUE=DATE:20211210
DTEND;VALUE=DATE:20211213
ATTENDEE;CN="dunefreak";CUTYPE=INDIVIDUAL;PARTSTAT=ACCEPTED:
	donotreply@dumontduneriders.com
ATTENDEE;CN="HotrailsJason";CUTYPE=INDIVIDUAL;PARTSTAT=ACCEP
	TED:donotreply@dumontduneriders.com
ATTENDEE;CN="Sandjoker29";CUTYPE=INDIVIDUAL;PARTSTAT=ACCEPTE
	D:donotreply@dumontduneriders.com
ATTENDEE;CN="bp-guy";CUTYPE=INDIVIDUAL;PARTSTAT=ACCEPTED:don
	otreply@dumontduneriders.com
ATTENDEE;CN="sandmandan";CUTYPE=INDIVIDUAL;PARTSTAT=ACCEPTED
	:donotreply@dumontduneriders.com
ATTENDEE;CN="SandDuneSam";CUTYPE=INDIVIDUAL;PARTSTAT=ACCEPTE
	D:donotreply@dumontduneriders.com
ATTENDEE;CN="CurtisR";CUTYPE=INDIVIDUAL;PARTSTAT=ACCEPTED:do
	notreply@dumontduneriders.com
ATTENDEE;CN="MoparMan";CUTYPE=INDIVIDUAL;PARTSTAT=ACCEPTED:d
	onotreply@dumontduneriders.com
ATTENDEE;CN="transporter";CUTYPE=INDIVIDUAL;PARTSTAT=ACCEPTE
	D:donotreply@dumontduneriders.com
ATTENDEE;CN="edwatertoad";CUTYPE=INDIVIDUAL;PARTSTAT=ACCEPTE
	D:donotreply@dumontduneriders.com
ATTENDEE;CN="tmerrell";CUTYPE=INDIVIDUAL;PARTSTAT=ACCEPTED:d
	onotreply@dumontduneriders.com
ATTENDEE;CN="goszfather";CUTYPE=INDIVIDUAL;PARTSTAT=ACCEPTED
	:donotreply@dumontduneriders.com
ATTENDEE;CN="59bisquik";CUTYPE=INDIVIDUAL;PARTSTAT=ACCEPTED:
	donotreply@dumontduneriders.com
ATTENDEE;CN="mdstevenson";CUTYPE=INDIVIDUAL;PARTSTAT=ACCEPTE
	D:donotreply@dumontduneriders.com
ATTENDEE;CN="Crazy4sand";CUTYPE=INDIVIDUAL;PARTSTAT=ACCEPTED
	:donotreply@dumontduneriders.com
ATTENDEE;CN="craig robinson";CUTYPE=INDIVIDUAL;PARTSTAT=ACCE
	PTED:donotreply@dumontduneriders.com
ATTENDEE;CN="Dylan6.6";CUTYPE=INDIVIDUAL;PARTSTAT=ACCEPTED:d
	onotreply@dumontduneriders.com
ATTENDEE;CN="Sydnee18";CUTYPE=INDIVIDUAL;PARTSTAT=ACCEPTED:d
	onotreply@dumontduneriders.com
ATTENDEE;CN="Barry Katz";CUTYPE=INDIVIDUAL;PARTSTAT=ACCEPTED
	:donotreply@dumontduneriders.com
ATTENDEE;CN="leo";CUTYPE=INDIVIDUAL;PARTSTAT=ACCEPTED:donotr
	eply@dumontduneriders.com
ATTENDEE;CN="Rubicon Rick";CUTYPE=INDIVIDUAL;PARTSTAT=ACCEPT
	ED:donotreply@dumontduneriders.com
ATTENDEE;CN="jalper";CUTYPE=INDIVIDUAL;PARTSTAT=ACCEPTED:don
	otreply@dumontduneriders.com
ATTENDEE;CN="Junbug_88";CUTYPE=INDIVIDUAL;PARTSTAT=ACCEPTED:
	donotreply@dumontduneriders.com
ATTENDEE;CN="ErinBeezy";CUTYPE=INDIVIDUAL;PARTSTAT=ACCEPTED:
	donotreply@dumontduneriders.com
ATTENDEE;CN="akahlh";CUTYPE=INDIVIDUAL;PARTSTAT=ACCEPTED:don
	otreply@dumontduneriders.com
ATTENDEE;CN="Jamesriggle";CUTYPE=INDIVIDUAL;PARTSTAT=ACCEPTE
	D:donotreply@dumontduneriders.com
ATTENDEE;CN="Alayna";CUTYPE=INDIVIDUAL;PARTSTAT=ACCEPTED:don
	otreply@dumontduneriders.com
ATTENDEE;CN="relwood";CUTYPE=INDIVIDUAL;PARTSTAT=ACCEPTED:do
	notreply@dumontduneriders.com
ATTENDEE;CN="Mustache Motorsports";CUTYPE=INDIVIDUAL;PARTSTA
	T=ACCEPTED:donotreply@dumontduneriders.com
ATTENDEE;CN="ken ferris";CUTYPE=INDIVIDUAL;PARTSTAT=ACCEPTED
	:donotreply@dumontduneriders.com
ATTENDEE;CN="jordanhiggins2002";CUTYPE=INDIVIDUAL;PARTSTAT=A
	CCEPTED:donotreply@dumontduneriders.com
ATTENDEE;CN="Boss Man";CUTYPE=INDIVIDUAL;PARTSTAT=ACCEPTED:d
	onotreply@dumontduneriders.com
ATTENDEE;CN="jasaunt56";CUTYPE=INDIVIDUAL;PARTSTAT=ACCEPTED:
	donotreply@dumontduneriders.com
ATTENDEE;CN="sanddevil1966";CUTYPE=INDIVIDUAL;PARTSTAT=ACCEP
	TED:donotreply@dumontduneriders.com
ATTENDEE;CN="Sandbuddy";CUTYPE=INDIVIDUAL;PARTSTAT=ACCEPTED:
	donotreply@dumontduneriders.com
ATTENDEE;CN="ajtorres859";CUTYPE=INDIVIDUAL;PARTSTAT=ACCEPTE
	D:donotreply@dumontduneriders.com
ATTENDEE;CN="ItsWeeks";CUTYPE=INDIVIDUAL;PARTSTAT=ACCEPTED:d
	onotreply@dumontduneriders.com
ATTENDEE;CN="Julie Vest Segura";CUTYPE=INDIVIDUAL;PARTSTAT=A
	CCEPTED:donotreply@dumontduneriders.com
ATTENDEE;CN="Mark - Allen Off-Road";CUTYPE=INDIVIDUAL;PARTST
	AT=ACCEPTED:donotreply@dumontduneriders.com
ATTENDEE;CN="FE135";CUTYPE=INDIVIDUAL;PARTSTAT=ACCEPTED:dono
	treply@dumontduneriders.com
ATTENDEE;CN="desertrider71";CUTYPE=INDIVIDUAL;PARTSTAT=ACCEP
	TED:donotreply@dumontduneriders.com
ATTENDEE;CN="asand1013";CUTYPE=INDIVIDUAL;PARTSTAT=ACCEPTED:
	donotreply@dumontduneriders.com
ATTENDEE;CN="HawaiianstyleLV";CUTYPE=INDIVIDUAL;PARTSTAT=ACC
	EPTED:donotreply@dumontduneriders.com
ATTENDEE;CN="Gene Kelley";CUTYPE=INDIVIDUAL;PARTSTAT=ACCEPTE
	D:donotreply@dumontduneriders.com
ATTENDEE;CN="Thd";CUTYPE=INDIVIDUAL;PARTSTAT=ACCEPTED:donotr
	eply@dumontduneriders.com
ATTENDEE;CN="Jerome Cutler";CUTYPE=INDIVIDUAL;PARTSTAT=ACCEP
	TED:donotreply@dumontduneriders.com
ATTENDEE;CN="sandsobie";CUTYPE=INDIVIDUAL;PARTSTAT=ACCEPTED:
	donotreply@dumontduneriders.com
ATTENDEE;CN="rick10";CUTYPE=INDIVIDUAL;PARTSTAT=ACCEPTED:don
	otreply@dumontduneriders.com
ATTENDEE;CN="Enrique";CUTYPE=INDIVIDUAL;PARTSTAT=ACCEPTED:do
	notreply@dumontduneriders.com
ATTENDEE;CN="Mark S";CUTYPE=INDIVIDUAL;PARTSTAT=ACCEPTED:don
	otreply@dumontduneriders.com
ATTENDEE;CN="Riki m";CUTYPE=INDIVIDUAL;PARTSTAT=ACCEPTED:don
	otreply@dumontduneriders.com
ATTENDEE;CN="Preston Shaffer";CUTYPE=INDIVIDUAL;PARTSTAT=ACC
	EPTED:donotreply@dumontduneriders.com
ATTENDEE;CN="John Lindsey";CUTYPE=INDIVIDUAL;PARTSTAT=ACCEPT
	ED:donotreply@dumontduneriders.com
ATTENDEE;CN="Martinxafi";CUTYPE=INDIVIDUAL;PARTSTAT=ACCEPTED
	:donotreply@dumontduneriders.com
END:VEVENT
END:VCALENDAR
