BEGIN:VCALENDAR
VERSION:2.0
PRODID:-//IP.Board Calendar 4.6.12.1//EN
METHOD:PUBLISH
CALSCALE:GREGORIAN
X-WR-CALNAME:Dumont Community Calendar
BEGIN:VTIMEZONE
TZID:Europe/London
TZURL:http://tzurl.org/zoneinfo/Europe/London
X-LIC-LOCATION:Europe/London
BEGIN:DAYLIGHT
TZOFFSETFROM:+0000
TZOFFSETTO:+0100
TZNAME:BST
DTSTART:20080330T020000Z
RRULE:FREQ=YEARLY;BYMONTH=3;BYDAY=-1SU
END:DAYLIGHT
BEGIN:STANDARD
TZOFFSETFROM:+0100
TZOFFSETTO:+0000
TZNAME:GMT
DTSTART:20081026T020000Z
RRULE:FREQ=YEARLY;BYMONTH=10;BYDAY=-1SU
END:STANDARD
END:VTIMEZONE
BEGIN:VEVENT
SUMMARY:DDR night ride & drags
DTSTAMP:20080627T004001Z
SEQUENCE:1
UID:89-1-7ad3c682ca512903e298b19d63c091ec@www.dumontduneriders.com
ORGANIZER;CN="dunefreak":donotreply@dumontduneriders.com
DESCRIPTION:\nCome out and join the rest of us as we get a summertime sa
	nd fix. Let's ride!  \nWhen: Saturday\, Aug 9th\nWhere: Dumont Dunes\, mos
	t everyone runs Banshee hill throughout the night but the dunes are awesom
	e\, just be carefull- lots of razors\nthe night drags thread...\nhttp://ww
	w.dumontduneriders.com/invision/index.php?act=ST&amp\;f=5&amp\;t=8464&amp\
	;st=0#entry136164\n
DTSTART:20080808T170000Z
END:VEVENT
END:VCALENDAR
