BEGIN:VCALENDAR
VERSION:2.0
PRODID:-//IP.Board Calendar 4.6.12.1//EN
METHOD:PUBLISH
CALSCALE:GREGORIAN
X-WR-CALNAME:Dumont Community Calendar
BEGIN:VTIMEZONE
TZID:Europe/London
TZURL:http://tzurl.org/zoneinfo/Europe/London
X-LIC-LOCATION:Europe/London
BEGIN:DAYLIGHT
TZOFFSETFROM:+0000
TZOFFSETTO:+0100
TZNAME:BST
DTSTART:20080330T020000Z
RRULE:FREQ=YEARLY;BYMONTH=3;BYDAY=-1SU
END:DAYLIGHT
BEGIN:STANDARD
TZOFFSETFROM:+0100
TZOFFSETTO:+0000
TZNAME:GMT
DTSTART:20081026T020000Z
RRULE:FREQ=YEARLY;BYMONTH=10;BYDAY=-1SU
END:STANDARD
END:VTIMEZONE
BEGIN:VEVENT
SUMMARY:Saturday BLM/ TRT Dumont meeting in Barstow\, CA
DTSTAMP:20080801T055234Z
SEQUENCE:1
UID:94-1-7ad3c682ca512903e298b19d63c091ec@www.dumontduneriders.com
ORGANIZER;CN="dunefreak":donotreply@dumontduneriders.com
DESCRIPTION:\n\nCome one\, come all. This meeting has been scheduled for
	 a Saturday in hopes that the public can easier attend. We hope many dedic
	ated people from DDR and Dumont can come out\, voice any concerns\, and ho
	pefully give some positive ideas for Dumont Dunes. \nMore info should be i
	n the Dumont Issues section of the forum.\n
DTSTART:20080905T170000Z
END:VEVENT
END:VCALENDAR
